BEGIN:VCALENDAR
VERSION:2.0
PRODID:-//En Tête UQTR - ECPv6.15.20//NONSGML v1.0//EN
CALSCALE:GREGORIAN
METHOD:PUBLISH
X-WR-CALNAME:En Tête UQTR
X-ORIGINAL-URL:https://blogue.uqtr.ca
X-WR-CALDESC:Évènements pour En Tête UQTR
REFRESH-INTERVAL;VALUE=DURATION:PT1H
X-Robots-Tag:noindex
X-PUBLISHED-TTL:PT1H
BEGIN:VTIMEZONE
TZID:America/Montreal
BEGIN:DAYLIGHT
TZOFFSETFROM:-0500
TZOFFSETTO:-0400
TZNAME:EDT
DTSTART:20250309T070000
END:DAYLIGHT
BEGIN:STANDARD
TZOFFSETFROM:-0400
TZOFFSETTO:-0500
TZNAME:EST
DTSTART:20251102T060000
END:STANDARD
BEGIN:DAYLIGHT
TZOFFSETFROM:-0500
TZOFFSETTO:-0400
TZNAME:EDT
DTSTART:20260308T070000
END:DAYLIGHT
BEGIN:STANDARD
TZOFFSETFROM:-0400
TZOFFSETTO:-0500
TZNAME:EST
DTSTART:20261101T060000
END:STANDARD
BEGIN:DAYLIGHT
TZOFFSETFROM:-0500
TZOFFSETTO:-0400
TZNAME:EDT
DTSTART:20270314T070000
END:DAYLIGHT
BEGIN:STANDARD
TZOFFSETFROM:-0400
TZOFFSETTO:-0500
TZNAME:EST
DTSTART:20271107T060000
END:STANDARD
END:VTIMEZONE
BEGIN:VEVENT
DTSTART;TZID=America/Montreal:20260406T190000
DTEND;TZID=America/Montreal:20260420T203000
DTSTAMP:20260420T015551
CREATED:20260210T161338Z
LAST-MODIFIED:20260413T124749Z
UID:97190-1775502000-1776717000@blogue.uqtr.ca
SUMMARY:Besoin de jaser? Un espace est là pour toi!
DESCRIPTION:Depuis janvier\, la Brigade Re-Pairs offre un espace d’échanges virtuel animé par Julianna Letellier. \nBonjour à tous et à toutes! \nJe m’appelle Julianna Letellier\, je fais partie de la Brigade Re-Pairs depuis l’automne 2024. Actuellement au DEC-BAC en Travail social au Campus de Drummondville\, je réalise mon stage en Beauce…mais même à distance\, j’avais envie de continuer à m’impliquer! \nC’est pourquoi je reprends avec enthousiasme le projet initié par Aissam Souidi (ancien membre de la Brigade) : les sessions d’échanges virtuels pour les étudiant.e.s de l’UQTR! \nC’est quoi ? \nUn espace simple\, flexible et sans jugement pour venir : \n– Jaser de ce qui te préoccupe;\n– Ventiler un peu;\n– Trouver des pistes\, des outils et du soutien pour faire face aux défis de la vie d’étudiant.e \nQuand? \nLes lundis de 19h à 20h30 \nVoici l’horaire des lundis : 6 avril\, 13 avril et 20 avril. \nComment participer? \nAucune inscription! \nTu dois t’authentifier avec ton adresse UQTR et\, cliquer sur le lien Zoom ci-dessous. J’ai hâte de t’accueillir dans la salle! \nLien Zoom : https://uqtr.zoom.us/j/83766012615?pwd=NcqMqgFal82gmaimRtXrKDkvlWCs0D.1 \nID de la rencontre: 837 6601 2615 \nMot de passe : 294042
URL:https://blogue.uqtr.ca/evenements/besoin-de-jaser-un-espace-est-la-pour-toi-2/
LOCATION:Virtuel – Zoom
CATEGORIES:SAE
ATTACH;FMTTYPE=image/jpeg:https://blogue.uqtr.ca/wp-content/uploads/2026/02/Affiche-Espace-dechanges-virtuels-570-x-370-px.jpg
END:VEVENT
BEGIN:VEVENT
DTSTART;TZID=America/Montreal:20260420T120000
DTEND;TZID=America/Montreal:20260420T130000
DTSTAMP:20260420T015551
CREATED:20260402T185136Z
LAST-MODIFIED:20260402T185700Z
UID:98101-1776686400-1776690000@blogue.uqtr.ca
SUMMARY:La liberté académique: cadres juridiques et enjeux éthiques
DESCRIPTION:Le Comité sur la liberté académique universitaire convie la communauté universitaire à une conférence-midi portant sur les fondements et les enjeux contemporains de la liberté académique universitaire\, qui aura lieu le 20 avril à midi. \nIntitulée «La liberté académique: cadres juridiques et enjeux éthiques»\, cette conférence sera présentée par Jean‑François Gaudreault‑DesBiens\, professeur titulaire à la Faculté de droit de l’Université de Montréal. Spécialiste reconnu en droit constitutionnel\, en libertés civiles\, théorie du droit et sociologie des cultures juridiques\, le professeur Gaudreault‑DesBiens propose une analyse approfondie des cadres juridiques qui balisent l’exercice des libertés expressives dans les universités\, ainsi que des enjeux éthiques qui en découlent. \nLe professeur Gaudreault-DesBiens est auteur de l’ouvrage Libertés expressives dans l’université canadienne contemporaine\, lauréat du Concours juridique 2025 de la Fondation du Barreau du Québec (catégorie Monographie). Il s’intéresse notamment aux revendications parfois contradictoires qui traversent l’institution universitaire et leurs effets possibles sur la liberté académique\, dans un contexte où les universités sont appelées à être à la fois inclusives et fidèles à leurs missions fondamentales. \nCette conférence s’adresse à l’ensemble des membres de la communauté universitaire souhaitant réfléchir aux conditions favorisant une université respectueuse de la liberté académique. \nPour s’inscrire: https://oraprdnt.uqtr.uquebec.ca/portail/gscw031?owa_no_site=8185
URL:https://blogue.uqtr.ca/evenements/la-liberte-academique-cadres-juridiques-et-enjeux-ethiques/
LOCATION:1222 Albert-Tessier (en comodal)
CATEGORIES:Conférence,Personet,Portail étudiant
ATTACH;FMTTYPE=image/png:https://blogue.uqtr.ca/wp-content/uploads/2026/04/conference_liberte_academique.png
ORGANIZER;CN="Comit%C3%A9 sur la libert%C3%A9 acad%C3%A9mique universitaire":MAILTO:liberte.academique@uqtr.ca
END:VEVENT
BEGIN:VEVENT
DTSTART;TZID=America/Montreal:20260420T133000
DTEND;TZID=America/Montreal:20260420T163000
DTSTAMP:20260420T015551
CREATED:20260105T195833Z
LAST-MODIFIED:20260105T195833Z
UID:96386-1776691800-1776702600@blogue.uqtr.ca
SUMMARY:Préparer une demande de certification éthique
DESCRIPTION:Cette session\, les Services aux étudiants t’offrent plusieurs ateliers destinés aux étudiants des cycles supérieurs. \nBien que la demande de certificat éthique soit un passage obligé dans plusieurs projets de recherche\, elle est souvent perçue comme un casse-tête pour certains étudiants. Pour d’autres\, il s’agit d’une étape inconnue du processus de recherche. Pourquoi faire une telle demande? Que doit-elle préciser? Comment sera-t-elle évaluée? Quels documents sont à remplir? Voilà quelques questions qui seront répondues lors de cet atelier. \nContenu de l’atelier : \n\nLa portée de l’évaluation éthique de la recherche\nLe respect de la dignité humaine : les principes directeurs\nLes populations vulnérables\, la vie privée et la confidentialité\, le processus de consentement\nL’évaluation par un comité d’éthique de la recherche\n\nAtelier offert par Anthony Voisard du Décanat de la recherche et de la création \nLundi 20 avril\, de 13h30 à 16h30\, en ligne \nD’autres dates et thèmes d’ateliers sont à l’horaire chaque session. Inscription sur le site. \nInscris-toi à nos services pour découvrir tous les outils disponibles pour les étudiants et les étudiantes en recherche. \nEn plus\, la Bibliothèque offre des formations pour s’initier à la recherche documentaire\, pour démystifier les normes de présentation\, pour savoir comment faire des citations\, pour apprendre à utiliser EndNote ou Zoterro\, pour rechercher et évaluer les sources d’information\, pour faire un plan de gestion de données\, etc. Consulte l’horaire sur le site de la Bibliothèque. \nSavais-tu que des Blitz de rédaction sont planifiés plusieurs fois par mois? Et savais-tu que tu peux obtenir de l’aide pour ta rédaction avec le Service d’aide à la rédaction scientifique?
URL:https://blogue.uqtr.ca/evenements/preparer-une-demande-de-certification-ethique-3/
CATEGORIES:Ateliers SAE,Cycles supérieurs,Portail étudiant,SAE,Service de la bibliothèque
ATTACH;FMTTYPE=image/png:https://blogue.uqtr.ca/wp-content/uploads/2025/08/Publicite_Cert_ethi_CS-570-370.png
ORGANIZER;CN="Soutien %C3%A0 l'apprentissage pour les cycles sup%C3%A9rieurs":MAILTO:sae.cyclessup@uqtr.ca
END:VEVENT
END:VCALENDAR