BEGIN:VCALENDAR
VERSION:2.0
PRODID:-//En Tête UQTR - ECPv6.15.20//NONSGML v1.0//EN
CALSCALE:GREGORIAN
METHOD:PUBLISH
X-ORIGINAL-URL:https://blogue.uqtr.ca
X-WR-CALDESC:Évènements pour En Tête UQTR
REFRESH-INTERVAL;VALUE=DURATION:PT1H
X-Robots-Tag:noindex
X-PUBLISHED-TTL:PT1H
BEGIN:VTIMEZONE
TZID:America/Montreal
BEGIN:DAYLIGHT
TZOFFSETFROM:-0500
TZOFFSETTO:-0400
TZNAME:EDT
DTSTART:20230312T070000
END:DAYLIGHT
BEGIN:STANDARD
TZOFFSETFROM:-0400
TZOFFSETTO:-0500
TZNAME:EST
DTSTART:20231105T060000
END:STANDARD
BEGIN:DAYLIGHT
TZOFFSETFROM:-0500
TZOFFSETTO:-0400
TZNAME:EDT
DTSTART:20240310T070000
END:DAYLIGHT
BEGIN:STANDARD
TZOFFSETFROM:-0400
TZOFFSETTO:-0500
TZNAME:EST
DTSTART:20241103T060000
END:STANDARD
BEGIN:DAYLIGHT
TZOFFSETFROM:-0500
TZOFFSETTO:-0400
TZNAME:EDT
DTSTART:20250309T070000
END:DAYLIGHT
BEGIN:STANDARD
TZOFFSETFROM:-0400
TZOFFSETTO:-0500
TZNAME:EST
DTSTART:20251102T060000
END:STANDARD
END:VTIMEZONE
BEGIN:VEVENT
DTSTART;TZID=America/Montreal:20241114T133000
DTEND;TZID=America/Montreal:20241114T163000
DTSTAMP:20260424T082306
CREATED:20241015T131729Z
LAST-MODIFIED:20241015T131729Z
UID:88567-1731591000-1731601800@blogue.uqtr.ca
SUMMARY:Formation – Rédiger son premier article SCIENTIFIQUE
DESCRIPTION:Atelier pour les étudiants des cycles supérieurs et les chercheurs\nCette formation\, animée par  Audrey Groleau\, professeure au Département des sciences de l’éducation\, vise à outiller les personnes en sciences humaines et sociales et en éducation en vue de la rédaction de leur premier article scientifique. L’article scientifique en tant que tel sera défini\, puis une typologie des articles scientifiques sera proposée. Il sera question de moments propices à la rédaction d’un premier article\, puis d’étapes qui peuvent être suivies pour bien organiser son travail. La formation se terminera par une discussion autour de quelques pièges à éviter et de quelques autres considérations à garder en tête au moment de la rédaction de l’article. \nOffert en comodalité (en ligne et en présentiel)  \nPour vous inscrire\, consultez le site du Soutien à l’apprentissage pour les cycles supérieurs. Des ressources sur le sujet sont aussi disponibles.
URL:https://blogue.uqtr.ca/evenements/formation-rediger-son-premier-article-scientifique-2/
LOCATION:Comodalité : En ligne + Bibliothèque\, Local 2231h AT\, 3351 Boulevard des Forges\, Trois-Rivières\, QC\, G9A 5H7\, Canada
CATEGORIES:Ateliers SAE,Cycles supérieurs,Département des sciences de l'éducation,Portail étudiant,Recherche,SAE
ATTACH;FMTTYPE=image/png:https://blogue.uqtr.ca/wp-content/uploads/2024/09/Premier_article_scientifique-570-370.png
ORGANIZER;CN="Soutien %C3%A0 l'apprentissage pour les cycles sup%C3%A9rieurs et Bibliot%C3%A8que":MAILTO:sae.cyclessup@uqtr.ca
END:VEVENT
BEGIN:VEVENT
DTSTART;TZID=America/Montreal:20241119T130000
DTEND;TZID=America/Montreal:20241119T150000
DTSTAMP:20260424T082306
CREATED:20240925T130125Z
LAST-MODIFIED:20241125T152508Z
UID:88239-1732021200-1732028400@blogue.uqtr.ca
SUMMARY:Le TECFÉE\, comment s'y préparer (Campus de Drummondville)
DESCRIPTION:CAMPUS DE DRUMMONDVILLE\nCet atelier s’adresse aux étudiants des programmes en enseignement qui doivent se préparer au Tests de certification en français écrit pour l’enseignement (TECFÉE). Les principales informations à connaitre seront abordées\, de même que des stratégies et des ressources pour l’étude et la préparation du test. \nDécouvrez d’autres ressources et services pour vous préparer au TECFÉE sur notre site www.uqtr.ca/tecfee. \nInscrivez-vous et consultez l’horaire sur notre site. \n** Atelier réservé aux étudiants inscrits dans un programme en enseignement.
URL:https://blogue.uqtr.ca/evenements/le-tecfee-comment-sy-preparer-campus-de-drummondville/
LOCATION:À confirmer
CATEGORIES:Ateliers SAE,Centre d'aide en français (CAF),Département des sciences de l'éducation,Portail étudiant,SAE
ATTACH;FMTTYPE=image/png:https://blogue.uqtr.ca/wp-content/uploads/2024/09/TECFEE-preparer-PUB-CAF-570-370-1.png
ORGANIZER;CN="Centre d'aide en fran%C3%A7ais":MAILTO:caf@uqtr.ca
END:VEVENT
END:VCALENDAR